BEGIN:VCALENDAR
CALSCALE:GREGORIAN
VERSION:2.0
PRODID:-//Elixir ICalendar//Elixir ICalendar//EN
BEGIN:VEVENT
CATEGORIES:social,dance,revolution
DESCRIPTION:Lets meet up and rage against the machine\n\n
DTEND;TZID=Australia/Melbourne:20250329T170000
DTSTAMP:20260424T233258Z
DTSTART;TZID=Australia/Melbourne:20250329T104500
GEO:-37.818185650000004;144.9664771839778
LOCATION:Flinders Street Station Steps 207-361 Flinders Street 3000 Melbourne Victoria Australia
ORGANIZER:Bed
STATUS:CONFIRMED
SUMMARY:Test Event
UID:3daa8764-8307-46fc-b8d5-dde6bc9fb58c
URL:https://events.bed.wtf/events/3daa8764-8307-46fc-b8d5-dde6bc9fb58c
END:VEVENT
END:VCALENDAR
